BEGIN:VCALENDAR
VERSION:2.0
PRODID:-//MATPRA - ECPv6.15.20//NONSGML v1.0//EN
CALSCALE:GREGORIAN
METHOD:PUBLISH
X-ORIGINAL-URL:https://matpra.org
X-WR-CALDESC:Events for MATPRA
REFRESH-INTERVAL;VALUE=DURATION:PT1H
X-Robots-Tag:noindex
X-PUBLISHED-TTL:PT1H
BEGIN:VTIMEZONE
TZID:America/New_York
BEGIN:DAYLIGHT
TZOFFSETFROM:-0500
TZOFFSETTO:-0400
TZNAME:EDT
DTSTART:20250309T070000
END:DAYLIGHT
BEGIN:STANDARD
TZOFFSETFROM:-0400
TZOFFSETTO:-0500
TZNAME:EST
DTSTART:20251102T060000
END:STANDARD
BEGIN:DAYLIGHT
TZOFFSETFROM:-0500
TZOFFSETTO:-0400
TZNAME:EDT
DTSTART:20260308T070000
END:DAYLIGHT
BEGIN:STANDARD
TZOFFSETFROM:-0400
TZOFFSETTO:-0500
TZNAME:EST
DTSTART:20261101T060000
END:STANDARD
BEGIN:DAYLIGHT
TZOFFSETFROM:-0500
TZOFFSETTO:-0400
TZNAME:EDT
DTSTART:20270314T070000
END:DAYLIGHT
BEGIN:STANDARD
TZOFFSETFROM:-0400
TZOFFSETTO:-0500
TZNAME:EST
DTSTART:20271107T060000
END:STANDARD
END:VTIMEZONE
BEGIN:VEVENT
DTSTART;TZID=America/New_York:20261001T100000
DTEND;TZID=America/New_York:20261001T210000
DTSTAMP:20260420T064557
CREATED:20260310T201141Z
LAST-MODIFIED:20260310T201141Z
UID:10108522-1790848800-1790888400@matpra.org
SUMMARY:Butler Farm Show
DESCRIPTION:This event showcases Butler County’s farming community. Farm-related activities include judging\, exhibits & demonstrations\, animals\, arts & crafts\, and farm products. Also\, don’t forget to check out the truck & tractor pulls\, midway\, music\, entertainment\, and rides.
URL:https://matpra.org/event/butler-farm-show/2026-10-01/
LOCATION:Butler Farm Show\, 625 Evans City Road\, Butler\, PA\, 16001\, United States
CATEGORIES:Pennsylvania
ATTACH;FMTTYPE=image/jpeg:https://matpra.org/wp-content/uploads/2026/03/Butler-Farm-Show.jpg
END:VEVENT
BEGIN:VEVENT
DTSTART;TZID=America/New_York:20261002T100000
DTEND;TZID=America/New_York:20261002T210000
DTSTAMP:20260420T064557
CREATED:20260310T201141Z
LAST-MODIFIED:20260310T201141Z
UID:10108523-1790935200-1790974800@matpra.org
SUMMARY:Butler Farm Show
DESCRIPTION:This event showcases Butler County’s farming community. Farm-related activities include judging\, exhibits & demonstrations\, animals\, arts & crafts\, and farm products. Also\, don’t forget to check out the truck & tractor pulls\, midway\, music\, entertainment\, and rides.
URL:https://matpra.org/event/butler-farm-show/2026-10-02/
LOCATION:Butler Farm Show\, 625 Evans City Road\, Butler\, PA\, 16001\, United States
CATEGORIES:Pennsylvania
ATTACH;FMTTYPE=image/jpeg:https://matpra.org/wp-content/uploads/2026/03/Butler-Farm-Show.jpg
END:VEVENT
BEGIN:VEVENT
DTSTART;TZID=America/New_York:20261003T100000
DTEND;TZID=America/New_York:20261003T210000
DTSTAMP:20260420T064557
CREATED:20260310T201141Z
LAST-MODIFIED:20260310T201141Z
UID:10108524-1791021600-1791061200@matpra.org
SUMMARY:Butler Farm Show
DESCRIPTION:This event showcases Butler County’s farming community. Farm-related activities include judging\, exhibits & demonstrations\, animals\, arts & crafts\, and farm products. Also\, don’t forget to check out the truck & tractor pulls\, midway\, music\, entertainment\, and rides.
URL:https://matpra.org/event/butler-farm-show/2026-10-03/
LOCATION:Butler Farm Show\, 625 Evans City Road\, Butler\, PA\, 16001\, United States
CATEGORIES:Pennsylvania
ATTACH;FMTTYPE=image/jpeg:https://matpra.org/wp-content/uploads/2026/03/Butler-Farm-Show.jpg
END:VEVENT
BEGIN:VEVENT
DTSTART;TZID=America/New_York:20261004T100000
DTEND;TZID=America/New_York:20261004T210000
DTSTAMP:20260420T064557
CREATED:20260310T201141Z
LAST-MODIFIED:20260310T201141Z
UID:10108525-1791108000-1791147600@matpra.org
SUMMARY:Butler Farm Show
DESCRIPTION:This event showcases Butler County’s farming community. Farm-related activities include judging\, exhibits & demonstrations\, animals\, arts & crafts\, and farm products. Also\, don’t forget to check out the truck & tractor pulls\, midway\, music\, entertainment\, and rides.
URL:https://matpra.org/event/butler-farm-show/2026-10-04/
LOCATION:Butler Farm Show\, 625 Evans City Road\, Butler\, PA\, 16001\, United States
CATEGORIES:Pennsylvania
ATTACH;FMTTYPE=image/jpeg:https://matpra.org/wp-content/uploads/2026/03/Butler-Farm-Show.jpg
END:VEVENT
BEGIN:VEVENT
DTSTART;TZID=America/New_York:20261005T100000
DTEND;TZID=America/New_York:20261005T210000
DTSTAMP:20260420T064557
CREATED:20260310T201141Z
LAST-MODIFIED:20260310T201141Z
UID:10108526-1791194400-1791234000@matpra.org
SUMMARY:Butler Farm Show
DESCRIPTION:This event showcases Butler County’s farming community. Farm-related activities include judging\, exhibits & demonstrations\, animals\, arts & crafts\, and farm products. Also\, don’t forget to check out the truck & tractor pulls\, midway\, music\, entertainment\, and rides.
URL:https://matpra.org/event/butler-farm-show/2026-10-05/
LOCATION:Butler Farm Show\, 625 Evans City Road\, Butler\, PA\, 16001\, United States
CATEGORIES:Pennsylvania
ATTACH;FMTTYPE=image/jpeg:https://matpra.org/wp-content/uploads/2026/03/Butler-Farm-Show.jpg
END:VEVENT
BEGIN:VEVENT
DTSTART;TZID=America/New_York:20261006T100000
DTEND;TZID=America/New_York:20261006T210000
DTSTAMP:20260420T064557
CREATED:20260310T201141Z
LAST-MODIFIED:20260310T201141Z
UID:10108527-1791280800-1791320400@matpra.org
SUMMARY:Butler Farm Show
DESCRIPTION:This event showcases Butler County’s farming community. Farm-related activities include judging\, exhibits & demonstrations\, animals\, arts & crafts\, and farm products. Also\, don’t forget to check out the truck & tractor pulls\, midway\, music\, entertainment\, and rides.
URL:https://matpra.org/event/butler-farm-show/2026-10-06/
LOCATION:Butler Farm Show\, 625 Evans City Road\, Butler\, PA\, 16001\, United States
CATEGORIES:Pennsylvania
ATTACH;FMTTYPE=image/jpeg:https://matpra.org/wp-content/uploads/2026/03/Butler-Farm-Show.jpg
END:VEVENT
BEGIN:VEVENT
DTSTART;TZID=America/New_York:20261007T100000
DTEND;TZID=America/New_York:20261007T210000
DTSTAMP:20260420T064557
CREATED:20260310T201141Z
LAST-MODIFIED:20260310T201141Z
UID:10108528-1791367200-1791406800@matpra.org
SUMMARY:Butler Farm Show
DESCRIPTION:This event showcases Butler County’s farming community. Farm-related activities include judging\, exhibits & demonstrations\, animals\, arts & crafts\, and farm products. Also\, don’t forget to check out the truck & tractor pulls\, midway\, music\, entertainment\, and rides.
URL:https://matpra.org/event/butler-farm-show/2026-10-07/
LOCATION:Butler Farm Show\, 625 Evans City Road\, Butler\, PA\, 16001\, United States
CATEGORIES:Pennsylvania
ATTACH;FMTTYPE=image/jpeg:https://matpra.org/wp-content/uploads/2026/03/Butler-Farm-Show.jpg
END:VEVENT
BEGIN:VEVENT
DTSTART;TZID=America/New_York:20261008T100000
DTEND;TZID=America/New_York:20261008T210000
DTSTAMP:20260420T064557
CREATED:20260310T201141Z
LAST-MODIFIED:20260310T201141Z
UID:10108529-1791453600-1791493200@matpra.org
SUMMARY:Butler Farm Show
DESCRIPTION:This event showcases Butler County’s farming community. Farm-related activities include judging\, exhibits & demonstrations\, animals\, arts & crafts\, and farm products. Also\, don’t forget to check out the truck & tractor pulls\, midway\, music\, entertainment\, and rides.
URL:https://matpra.org/event/butler-farm-show/2026-10-08/
LOCATION:Butler Farm Show\, 625 Evans City Road\, Butler\, PA\, 16001\, United States
CATEGORIES:Pennsylvania
ATTACH;FMTTYPE=image/jpeg:https://matpra.org/wp-content/uploads/2026/03/Butler-Farm-Show.jpg
END:VEVENT
BEGIN:VEVENT
DTSTART;TZID=America/New_York:20261009T100000
DTEND;TZID=America/New_York:20261009T210000
DTSTAMP:20260420T064557
CREATED:20260310T201141Z
LAST-MODIFIED:20260310T201141Z
UID:10108530-1791540000-1791579600@matpra.org
SUMMARY:Butler Farm Show
DESCRIPTION:This event showcases Butler County’s farming community. Farm-related activities include judging\, exhibits & demonstrations\, animals\, arts & crafts\, and farm products. Also\, don’t forget to check out the truck & tractor pulls\, midway\, music\, entertainment\, and rides.
URL:https://matpra.org/event/butler-farm-show/2026-10-09/
LOCATION:Butler Farm Show\, 625 Evans City Road\, Butler\, PA\, 16001\, United States
CATEGORIES:Pennsylvania
ATTACH;FMTTYPE=image/jpeg:https://matpra.org/wp-content/uploads/2026/03/Butler-Farm-Show.jpg
END:VEVENT
BEGIN:VEVENT
DTSTART;TZID=America/New_York:20261010T100000
DTEND;TZID=America/New_York:20261010T210000
DTSTAMP:20260420T064557
CREATED:20260310T201141Z
LAST-MODIFIED:20260310T201141Z
UID:10108531-1791626400-1791666000@matpra.org
SUMMARY:Butler Farm Show
DESCRIPTION:This event showcases Butler County’s farming community. Farm-related activities include judging\, exhibits & demonstrations\, animals\, arts & crafts\, and farm products. Also\, don’t forget to check out the truck & tractor pulls\, midway\, music\, entertainment\, and rides.
URL:https://matpra.org/event/butler-farm-show/2026-10-10/
LOCATION:Butler Farm Show\, 625 Evans City Road\, Butler\, PA\, 16001\, United States
CATEGORIES:Pennsylvania
ATTACH;FMTTYPE=image/jpeg:https://matpra.org/wp-content/uploads/2026/03/Butler-Farm-Show.jpg
END:VEVENT
BEGIN:VEVENT
DTSTART;TZID=America/New_York:20261011T100000
DTEND;TZID=America/New_York:20261011T210000
DTSTAMP:20260420T064557
CREATED:20260310T201141Z
LAST-MODIFIED:20260310T201141Z
UID:10108532-1791712800-1791752400@matpra.org
SUMMARY:Butler Farm Show
DESCRIPTION:This event showcases Butler County’s farming community. Farm-related activities include judging\, exhibits & demonstrations\, animals\, arts & crafts\, and farm products. Also\, don’t forget to check out the truck & tractor pulls\, midway\, music\, entertainment\, and rides.
URL:https://matpra.org/event/butler-farm-show/2026-10-11/
LOCATION:Butler Farm Show\, 625 Evans City Road\, Butler\, PA\, 16001\, United States
CATEGORIES:Pennsylvania
ATTACH;FMTTYPE=image/jpeg:https://matpra.org/wp-content/uploads/2026/03/Butler-Farm-Show.jpg
END:VEVENT
BEGIN:VEVENT
DTSTART;TZID=America/New_York:20261012T100000
DTEND;TZID=America/New_York:20261012T210000
DTSTAMP:20260420T064557
CREATED:20260310T201141Z
LAST-MODIFIED:20260310T201141Z
UID:10108533-1791799200-1791838800@matpra.org
SUMMARY:Butler Farm Show
DESCRIPTION:This event showcases Butler County’s farming community. Farm-related activities include judging\, exhibits & demonstrations\, animals\, arts & crafts\, and farm products. Also\, don’t forget to check out the truck & tractor pulls\, midway\, music\, entertainment\, and rides.
URL:https://matpra.org/event/butler-farm-show/2026-10-12/
LOCATION:Butler Farm Show\, 625 Evans City Road\, Butler\, PA\, 16001\, United States
CATEGORIES:Pennsylvania
ATTACH;FMTTYPE=image/jpeg:https://matpra.org/wp-content/uploads/2026/03/Butler-Farm-Show.jpg
END:VEVENT
BEGIN:VEVENT
DTSTART;TZID=America/New_York:20261013T100000
DTEND;TZID=America/New_York:20261013T210000
DTSTAMP:20260420T064557
CREATED:20260310T201141Z
LAST-MODIFIED:20260310T201141Z
UID:10108534-1791885600-1791925200@matpra.org
SUMMARY:Butler Farm Show
DESCRIPTION:This event showcases Butler County’s farming community. Farm-related activities include judging\, exhibits & demonstrations\, animals\, arts & crafts\, and farm products. Also\, don’t forget to check out the truck & tractor pulls\, midway\, music\, entertainment\, and rides.
URL:https://matpra.org/event/butler-farm-show/2026-10-13/
LOCATION:Butler Farm Show\, 625 Evans City Road\, Butler\, PA\, 16001\, United States
CATEGORIES:Pennsylvania
ATTACH;FMTTYPE=image/jpeg:https://matpra.org/wp-content/uploads/2026/03/Butler-Farm-Show.jpg
END:VEVENT
BEGIN:VEVENT
DTSTART;TZID=America/New_York:20261014T100000
DTEND;TZID=America/New_York:20261014T210000
DTSTAMP:20260420T064557
CREATED:20260310T201141Z
LAST-MODIFIED:20260310T201141Z
UID:10108535-1791972000-1792011600@matpra.org
SUMMARY:Butler Farm Show
DESCRIPTION:This event showcases Butler County’s farming community. Farm-related activities include judging\, exhibits & demonstrations\, animals\, arts & crafts\, and farm products. Also\, don’t forget to check out the truck & tractor pulls\, midway\, music\, entertainment\, and rides.
URL:https://matpra.org/event/butler-farm-show/2026-10-14/
LOCATION:Butler Farm Show\, 625 Evans City Road\, Butler\, PA\, 16001\, United States
CATEGORIES:Pennsylvania
ATTACH;FMTTYPE=image/jpeg:https://matpra.org/wp-content/uploads/2026/03/Butler-Farm-Show.jpg
END:VEVENT
BEGIN:VEVENT
DTSTART;TZID=America/New_York:20261015T100000
DTEND;TZID=America/New_York:20261015T210000
DTSTAMP:20260420T064557
CREATED:20260310T201141Z
LAST-MODIFIED:20260310T201141Z
UID:10108536-1792058400-1792098000@matpra.org
SUMMARY:Butler Farm Show
DESCRIPTION:This event showcases Butler County’s farming community. Farm-related activities include judging\, exhibits & demonstrations\, animals\, arts & crafts\, and farm products. Also\, don’t forget to check out the truck & tractor pulls\, midway\, music\, entertainment\, and rides.
URL:https://matpra.org/event/butler-farm-show/2026-10-15/
LOCATION:Butler Farm Show\, 625 Evans City Road\, Butler\, PA\, 16001\, United States
CATEGORIES:Pennsylvania
ATTACH;FMTTYPE=image/jpeg:https://matpra.org/wp-content/uploads/2026/03/Butler-Farm-Show.jpg
END:VEVENT
BEGIN:VEVENT
DTSTART;TZID=America/New_York:20261016T100000
DTEND;TZID=America/New_York:20261016T210000
DTSTAMP:20260420T064557
CREATED:20260310T201141Z
LAST-MODIFIED:20260310T201141Z
UID:10108537-1792144800-1792184400@matpra.org
SUMMARY:Butler Farm Show
DESCRIPTION:This event showcases Butler County’s farming community. Farm-related activities include judging\, exhibits & demonstrations\, animals\, arts & crafts\, and farm products. Also\, don’t forget to check out the truck & tractor pulls\, midway\, music\, entertainment\, and rides.
URL:https://matpra.org/event/butler-farm-show/2026-10-16/
LOCATION:Butler Farm Show\, 625 Evans City Road\, Butler\, PA\, 16001\, United States
CATEGORIES:Pennsylvania
ATTACH;FMTTYPE=image/jpeg:https://matpra.org/wp-content/uploads/2026/03/Butler-Farm-Show.jpg
END:VEVENT
BEGIN:VEVENT
DTSTART;TZID=America/New_York:20261017T100000
DTEND;TZID=America/New_York:20261017T210000
DTSTAMP:20260420T064557
CREATED:20260310T201141Z
LAST-MODIFIED:20260310T201141Z
UID:10108538-1792231200-1792270800@matpra.org
SUMMARY:Butler Farm Show
DESCRIPTION:This event showcases Butler County’s farming community. Farm-related activities include judging\, exhibits & demonstrations\, animals\, arts & crafts\, and farm products. Also\, don’t forget to check out the truck & tractor pulls\, midway\, music\, entertainment\, and rides.
URL:https://matpra.org/event/butler-farm-show/2026-10-17/
LOCATION:Butler Farm Show\, 625 Evans City Road\, Butler\, PA\, 16001\, United States
CATEGORIES:Pennsylvania
ATTACH;FMTTYPE=image/jpeg:https://matpra.org/wp-content/uploads/2026/03/Butler-Farm-Show.jpg
END:VEVENT
BEGIN:VEVENT
DTSTART;TZID=America/New_York:20261018T100000
DTEND;TZID=America/New_York:20261018T210000
DTSTAMP:20260420T064557
CREATED:20260310T201141Z
LAST-MODIFIED:20260310T201141Z
UID:10108539-1792317600-1792357200@matpra.org
SUMMARY:Butler Farm Show
DESCRIPTION:This event showcases Butler County’s farming community. Farm-related activities include judging\, exhibits & demonstrations\, animals\, arts & crafts\, and farm products. Also\, don’t forget to check out the truck & tractor pulls\, midway\, music\, entertainment\, and rides.
URL:https://matpra.org/event/butler-farm-show/2026-10-18/
LOCATION:Butler Farm Show\, 625 Evans City Road\, Butler\, PA\, 16001\, United States
CATEGORIES:Pennsylvania
ATTACH;FMTTYPE=image/jpeg:https://matpra.org/wp-content/uploads/2026/03/Butler-Farm-Show.jpg
END:VEVENT
BEGIN:VEVENT
DTSTART;TZID=America/New_York:20261019T100000
DTEND;TZID=America/New_York:20261019T210000
DTSTAMP:20260420T064557
CREATED:20260310T201141Z
LAST-MODIFIED:20260310T201141Z
UID:10108540-1792404000-1792443600@matpra.org
SUMMARY:Butler Farm Show
DESCRIPTION:This event showcases Butler County’s farming community. Farm-related activities include judging\, exhibits & demonstrations\, animals\, arts & crafts\, and farm products. Also\, don’t forget to check out the truck & tractor pulls\, midway\, music\, entertainment\, and rides.
URL:https://matpra.org/event/butler-farm-show/2026-10-19/
LOCATION:Butler Farm Show\, 625 Evans City Road\, Butler\, PA\, 16001\, United States
CATEGORIES:Pennsylvania
ATTACH;FMTTYPE=image/jpeg:https://matpra.org/wp-content/uploads/2026/03/Butler-Farm-Show.jpg
END:VEVENT
BEGIN:VEVENT
DTSTART;TZID=America/New_York:20261020T100000
DTEND;TZID=America/New_York:20261020T210000
DTSTAMP:20260420T064557
CREATED:20260310T201141Z
LAST-MODIFIED:20260310T201141Z
UID:10108541-1792490400-1792530000@matpra.org
SUMMARY:Butler Farm Show
DESCRIPTION:This event showcases Butler County’s farming community. Farm-related activities include judging\, exhibits & demonstrations\, animals\, arts & crafts\, and farm products. Also\, don’t forget to check out the truck & tractor pulls\, midway\, music\, entertainment\, and rides.
URL:https://matpra.org/event/butler-farm-show/2026-10-20/
LOCATION:Butler Farm Show\, 625 Evans City Road\, Butler\, PA\, 16001\, United States
CATEGORIES:Pennsylvania
ATTACH;FMTTYPE=image/jpeg:https://matpra.org/wp-content/uploads/2026/03/Butler-Farm-Show.jpg
END:VEVENT
BEGIN:VEVENT
DTSTART;TZID=America/New_York:20261021T100000
DTEND;TZID=America/New_York:20261021T210000
DTSTAMP:20260420T064557
CREATED:20260310T201141Z
LAST-MODIFIED:20260310T201141Z
UID:10108542-1792576800-1792616400@matpra.org
SUMMARY:Butler Farm Show
DESCRIPTION:This event showcases Butler County’s farming community. Farm-related activities include judging\, exhibits & demonstrations\, animals\, arts & crafts\, and farm products. Also\, don’t forget to check out the truck & tractor pulls\, midway\, music\, entertainment\, and rides.
URL:https://matpra.org/event/butler-farm-show/2026-10-21/
LOCATION:Butler Farm Show\, 625 Evans City Road\, Butler\, PA\, 16001\, United States
CATEGORIES:Pennsylvania
ATTACH;FMTTYPE=image/jpeg:https://matpra.org/wp-content/uploads/2026/03/Butler-Farm-Show.jpg
END:VEVENT
BEGIN:VEVENT
DTSTART;TZID=America/New_York:20261022T100000
DTEND;TZID=America/New_York:20261022T210000
DTSTAMP:20260420T064557
CREATED:20260310T201141Z
LAST-MODIFIED:20260310T201141Z
UID:10108543-1792663200-1792702800@matpra.org
SUMMARY:Butler Farm Show
DESCRIPTION:This event showcases Butler County’s farming community. Farm-related activities include judging\, exhibits & demonstrations\, animals\, arts & crafts\, and farm products. Also\, don’t forget to check out the truck & tractor pulls\, midway\, music\, entertainment\, and rides.
URL:https://matpra.org/event/butler-farm-show/2026-10-22/
LOCATION:Butler Farm Show\, 625 Evans City Road\, Butler\, PA\, 16001\, United States
CATEGORIES:Pennsylvania
ATTACH;FMTTYPE=image/jpeg:https://matpra.org/wp-content/uploads/2026/03/Butler-Farm-Show.jpg
END:VEVENT
BEGIN:VEVENT
DTSTART;TZID=America/New_York:20261023T100000
DTEND;TZID=America/New_York:20261023T210000
DTSTAMP:20260420T064557
CREATED:20260310T201141Z
LAST-MODIFIED:20260310T201141Z
UID:10108544-1792749600-1792789200@matpra.org
SUMMARY:Butler Farm Show
DESCRIPTION:This event showcases Butler County’s farming community. Farm-related activities include judging\, exhibits & demonstrations\, animals\, arts & crafts\, and farm products. Also\, don’t forget to check out the truck & tractor pulls\, midway\, music\, entertainment\, and rides.
URL:https://matpra.org/event/butler-farm-show/2026-10-23/
LOCATION:Butler Farm Show\, 625 Evans City Road\, Butler\, PA\, 16001\, United States
CATEGORIES:Pennsylvania
ATTACH;FMTTYPE=image/jpeg:https://matpra.org/wp-content/uploads/2026/03/Butler-Farm-Show.jpg
END:VEVENT
BEGIN:VEVENT
DTSTART;TZID=America/New_York:20261024T100000
DTEND;TZID=America/New_York:20261024T210000
DTSTAMP:20260420T064557
CREATED:20260310T201141Z
LAST-MODIFIED:20260310T201141Z
UID:10108545-1792836000-1792875600@matpra.org
SUMMARY:Butler Farm Show
DESCRIPTION:This event showcases Butler County’s farming community. Farm-related activities include judging\, exhibits & demonstrations\, animals\, arts & crafts\, and farm products. Also\, don’t forget to check out the truck & tractor pulls\, midway\, music\, entertainment\, and rides.
URL:https://matpra.org/event/butler-farm-show/2026-10-24/
LOCATION:Butler Farm Show\, 625 Evans City Road\, Butler\, PA\, 16001\, United States
CATEGORIES:Pennsylvania
ATTACH;FMTTYPE=image/jpeg:https://matpra.org/wp-content/uploads/2026/03/Butler-Farm-Show.jpg
END:VEVENT
BEGIN:VEVENT
DTSTART;TZID=America/New_York:20261025T100000
DTEND;TZID=America/New_York:20261025T210000
DTSTAMP:20260420T064557
CREATED:20260310T201141Z
LAST-MODIFIED:20260310T201141Z
UID:10108546-1792922400-1792962000@matpra.org
SUMMARY:Butler Farm Show
DESCRIPTION:This event showcases Butler County’s farming community. Farm-related activities include judging\, exhibits & demonstrations\, animals\, arts & crafts\, and farm products. Also\, don’t forget to check out the truck & tractor pulls\, midway\, music\, entertainment\, and rides.
URL:https://matpra.org/event/butler-farm-show/2026-10-25/
LOCATION:Butler Farm Show\, 625 Evans City Road\, Butler\, PA\, 16001\, United States
CATEGORIES:Pennsylvania
ATTACH;FMTTYPE=image/jpeg:https://matpra.org/wp-content/uploads/2026/03/Butler-Farm-Show.jpg
END:VEVENT
BEGIN:VEVENT
DTSTART;TZID=America/New_York:20261026T100000
DTEND;TZID=America/New_York:20261026T210000
DTSTAMP:20260420T064557
CREATED:20260310T201141Z
LAST-MODIFIED:20260310T201141Z
UID:10108547-1793008800-1793048400@matpra.org
SUMMARY:Butler Farm Show
DESCRIPTION:This event showcases Butler County’s farming community. Farm-related activities include judging\, exhibits & demonstrations\, animals\, arts & crafts\, and farm products. Also\, don’t forget to check out the truck & tractor pulls\, midway\, music\, entertainment\, and rides.
URL:https://matpra.org/event/butler-farm-show/2026-10-26/
LOCATION:Butler Farm Show\, 625 Evans City Road\, Butler\, PA\, 16001\, United States
CATEGORIES:Pennsylvania
ATTACH;FMTTYPE=image/jpeg:https://matpra.org/wp-content/uploads/2026/03/Butler-Farm-Show.jpg
END:VEVENT
BEGIN:VEVENT
DTSTART;TZID=America/New_York:20261027T100000
DTEND;TZID=America/New_York:20261027T210000
DTSTAMP:20260420T064557
CREATED:20260310T201141Z
LAST-MODIFIED:20260310T201141Z
UID:10108548-1793095200-1793134800@matpra.org
SUMMARY:Butler Farm Show
DESCRIPTION:This event showcases Butler County’s farming community. Farm-related activities include judging\, exhibits & demonstrations\, animals\, arts & crafts\, and farm products. Also\, don’t forget to check out the truck & tractor pulls\, midway\, music\, entertainment\, and rides.
URL:https://matpra.org/event/butler-farm-show/2026-10-27/
LOCATION:Butler Farm Show\, 625 Evans City Road\, Butler\, PA\, 16001\, United States
CATEGORIES:Pennsylvania
ATTACH;FMTTYPE=image/jpeg:https://matpra.org/wp-content/uploads/2026/03/Butler-Farm-Show.jpg
END:VEVENT
BEGIN:VEVENT
DTSTART;TZID=America/New_York:20261028T100000
DTEND;TZID=America/New_York:20261028T210000
DTSTAMP:20260420T064557
CREATED:20260310T201141Z
LAST-MODIFIED:20260310T201141Z
UID:10108549-1793181600-1793221200@matpra.org
SUMMARY:Butler Farm Show
DESCRIPTION:This event showcases Butler County’s farming community. Farm-related activities include judging\, exhibits & demonstrations\, animals\, arts & crafts\, and farm products. Also\, don’t forget to check out the truck & tractor pulls\, midway\, music\, entertainment\, and rides.
URL:https://matpra.org/event/butler-farm-show/2026-10-28/
LOCATION:Butler Farm Show\, 625 Evans City Road\, Butler\, PA\, 16001\, United States
CATEGORIES:Pennsylvania
ATTACH;FMTTYPE=image/jpeg:https://matpra.org/wp-content/uploads/2026/03/Butler-Farm-Show.jpg
END:VEVENT
BEGIN:VEVENT
DTSTART;TZID=America/New_York:20261029T100000
DTEND;TZID=America/New_York:20261029T210000
DTSTAMP:20260420T064557
CREATED:20260310T201141Z
LAST-MODIFIED:20260310T201141Z
UID:10108550-1793268000-1793307600@matpra.org
SUMMARY:Butler Farm Show
DESCRIPTION:This event showcases Butler County’s farming community. Farm-related activities include judging\, exhibits & demonstrations\, animals\, arts & crafts\, and farm products. Also\, don’t forget to check out the truck & tractor pulls\, midway\, music\, entertainment\, and rides.
URL:https://matpra.org/event/butler-farm-show/2026-10-29/
LOCATION:Butler Farm Show\, 625 Evans City Road\, Butler\, PA\, 16001\, United States
CATEGORIES:Pennsylvania
ATTACH;FMTTYPE=image/jpeg:https://matpra.org/wp-content/uploads/2026/03/Butler-Farm-Show.jpg
END:VEVENT
BEGIN:VEVENT
DTSTART;TZID=America/New_York:20261030T100000
DTEND;TZID=America/New_York:20261030T210000
DTSTAMP:20260420T064557
CREATED:20260310T201141Z
LAST-MODIFIED:20260310T201141Z
UID:10108551-1793354400-1793394000@matpra.org
SUMMARY:Butler Farm Show
DESCRIPTION:This event showcases Butler County’s farming community. Farm-related activities include judging\, exhibits & demonstrations\, animals\, arts & crafts\, and farm products. Also\, don’t forget to check out the truck & tractor pulls\, midway\, music\, entertainment\, and rides.
URL:https://matpra.org/event/butler-farm-show/2026-10-30/
LOCATION:Butler Farm Show\, 625 Evans City Road\, Butler\, PA\, 16001\, United States
CATEGORIES:Pennsylvania
ATTACH;FMTTYPE=image/jpeg:https://matpra.org/wp-content/uploads/2026/03/Butler-Farm-Show.jpg
END:VEVENT
END:VCALENDAR