BEGIN:VCALENDAR
VERSION:2.0
PRODID:-//MATPRA - ECPv6.15.20//NONSGML v1.0//EN
CALSCALE:GREGORIAN
METHOD:PUBLISH
X-ORIGINAL-URL:https://matpra.org
X-WR-CALDESC:Events for MATPRA
REFRESH-INTERVAL;VALUE=DURATION:PT1H
X-Robots-Tag:noindex
X-PUBLISHED-TTL:PT1H
BEGIN:VTIMEZONE
TZID:America/New_York
BEGIN:DAYLIGHT
TZOFFSETFROM:-0500
TZOFFSETTO:-0400
TZNAME:EDT
DTSTART:20250309T070000
END:DAYLIGHT
BEGIN:STANDARD
TZOFFSETFROM:-0400
TZOFFSETTO:-0500
TZNAME:EST
DTSTART:20251102T060000
END:STANDARD
BEGIN:DAYLIGHT
TZOFFSETFROM:-0500
TZOFFSETTO:-0400
TZNAME:EDT
DTSTART:20260308T070000
END:DAYLIGHT
BEGIN:STANDARD
TZOFFSETFROM:-0400
TZOFFSETTO:-0500
TZNAME:EST
DTSTART:20261101T060000
END:STANDARD
BEGIN:DAYLIGHT
TZOFFSETFROM:-0500
TZOFFSETTO:-0400
TZNAME:EDT
DTSTART:20270314T070000
END:DAYLIGHT
BEGIN:STANDARD
TZOFFSETFROM:-0400
TZOFFSETTO:-0500
TZNAME:EST
DTSTART:20271107T060000
END:STANDARD
END:VTIMEZONE
BEGIN:VEVENT
DTSTART;TZID=America/New_York:20260621T100000
DTEND;TZID=America/New_York:20260621T100000
DTSTAMP:20260420T000603
CREATED:20260309T125034Z
LAST-MODIFIED:20260309T125034Z
UID:10107709-1782036000-1782036000@matpra.org
SUMMARY:Forksville PowWow
DESCRIPTION:Bring the family to experience Native American music and dance at the Forksville Powwow! The 34th annual Forksville Powwow will be held on Father’s Day weekend\, June 20-21\, 2026\, at the Sullivan County Fairgrounds in Forksville\, PA. \nGates open at 10am and Grand Entry is scheduled at noon both days (rain or shine). Veterans and those in active service are honored during opening ceremonies during a Veterans’ dance. Family members are invited to join in this dance honoring their loved ones. On Sunday\, bring your father into the Dance Circle for the Father’s Day Dance. Haudenosaunee social dancing by the Halsey family will be featured both days. \nThe powwow draws dancers from near and far and features Native North American powwow drum groups as well as the Salinas family Aztec dancers. Come sample the delicious variety of food\, see beautiful handmade items for sale by vendors\, participate with your family in social dances\, and observe educational demonstrations. \nAdmission is $8.00\, children 12 and under are FREE.  The event is hosted by EDN Inc.\, a non-profit organization that promotes Native American cultural education\, and is sponsored by the local Kiwanis of Sullivan County. The Sullivan County Fairgrounds are located at 4430 Route 154 Forksville\, PA 18616\, a short distance from Worlds End State Park in the beautiful Endless Mountains. \nBring a lawn chair – Family event – No drugs or alcohol \nFor more info call 570-439-0026 or see the Forksville PowWow Facebook page.
URL:https://matpra.org/event/forksville-powwow/2026-06-21/
LOCATION:Sullivan County Fairgrounds\, 4430 Rte. 154\, Forksville\, PA\, 18616\, United States
CATEGORIES:Pennsylvania
ATTACH;FMTTYPE=image/jpeg:https://matpra.org/wp-content/uploads/2026/03/SUL-ForksvillePowwow1-web.jpg
ORGANIZER;CN="Forksville PowWow":MAILTO:forksvillepowwow@yahoo.com
END:VEVENT
BEGIN:VEVENT
DTSTART;TZID=America/New_York:20260627T100000
DTEND;TZID=America/New_York:20260627T160000
DTSTAMP:20260420T000603
CREATED:20260309T125109Z
LAST-MODIFIED:20260309T125109Z
UID:10107707-1782554400-1782576000@matpra.org
SUMMARY:Tunkhannock Founder’s Day
DESCRIPTION:The Tunkhannock Business and Professional Association presents Founder’s Day on Saturday\, June 27\, 2026. This annual street festival will feature more than 150 art and food vendors along Tioga Street\, Warren Street\, and surrounding areas. There will also be family-friendly activities\, live music\, and entertainment all day long. \nVisit TBPA’s website or Facebook page for a complete schedule of events.
URL:https://matpra.org/event/tunkhannock-founders-day/
LOCATION:Downtown Tunkhannock\, Endless Mts
CATEGORIES:Pennsylvania
ATTACH;FMTTYPE=image/jpeg:https://matpra.org/wp-content/uploads/2026/03/June-2012-011-scaled.jpg
ORGANIZER;CN="Tunkhannock Business &amp%3B Professional Association":MAILTO:TBPAnancy1@gmail.com
END:VEVENT
BEGIN:VEVENT
DTSTART;TZID=America/New_York:20260725T090000
DTEND;TZID=America/New_York:20260725T170000
DTSTAMP:20260420T000603
CREATED:20260310T202429Z
LAST-MODIFIED:20260310T202429Z
UID:10108466-1784970000-1784998800@matpra.org
SUMMARY:Celebrate the Bloom
DESCRIPTION:Celebrate the Bloom! is a free annual event held at Jennings Environmental Education Center on the last Saturday in July. Celebrating the state’s only prairie (and the eastern-most prairie in the US)\, the festival includes nature explorations (i.e. bird\, butterfly and wildflower walks)\, engaging demonstrations\, local artisans and food\, and musical guests.
URL:https://matpra.org/event/celebrate-the-bloom/
LOCATION:Jennings Environmental Education Center\, 2951 Prospect Rd\, Slippery Rock\, PA\, 16057\, United States
CATEGORIES:Pennsylvania
ATTACH;FMTTYPE=image/jpeg:https://matpra.org/wp-content/uploads/2026/03/Celebrate-the-Bloom-at-JEC-scaled.jpg
END:VEVENT
BEGIN:VEVENT
DTSTART;TZID=America/New_York:20260801T100000
DTEND;TZID=America/New_York:20260801T220000
DTSTAMP:20260420T000603
CREATED:20260310T202242Z
LAST-MODIFIED:20260310T202242Z
UID:10108468-1785578400-1785621600@matpra.org
SUMMARY:Moraine State Park Regatta
DESCRIPTION:The Moraine State Park Regatta aims to showcase eco-recreational activities for all ages and promote Moraine State Park. Featuring water and land recreational opportunities for all ages\, nature-themed experiences\, and vendors from the local community\, the event has something for everyone.
URL:https://matpra.org/event/moraine-state-park-regatta/2026-08-01/
LOCATION:Moraine State Park
CATEGORIES:Pennsylvania
ATTACH;FMTTYPE=image/jpeg:https://matpra.org/wp-content/uploads/2026/03/Moraine-Regatta-by-Al-Marschke-PR-.jpg
END:VEVENT
BEGIN:VEVENT
DTSTART;TZID=America/New_York:20260802T100000
DTEND;TZID=America/New_York:20260802T180000
DTSTAMP:20260420T000603
CREATED:20260310T202242Z
LAST-MODIFIED:20260310T202242Z
UID:10108469-1785664800-1785693600@matpra.org
SUMMARY:Moraine State Park Regatta
DESCRIPTION:The Moraine State Park Regatta aims to showcase eco-recreational activities for all ages and promote Moraine State Park. Featuring water and land recreational opportunities for all ages\, nature-themed experiences\, and vendors from the local community\, the event has something for everyone.
URL:https://matpra.org/event/moraine-state-park-regatta/2026-08-02/
LOCATION:Moraine State Park
CATEGORIES:Pennsylvania
ATTACH;FMTTYPE=image/jpeg:https://matpra.org/wp-content/uploads/2026/03/Moraine-Regatta-by-Al-Marschke-PR-.jpg
END:VEVENT
BEGIN:VEVENT
DTSTART;TZID=America/New_York:20260810T100000
DTEND;TZID=America/New_York:20260810T210000
DTSTAMP:20260420T000603
CREATED:20260310T201141Z
LAST-MODIFIED:20260310T201141Z
UID:10108470-1786356000-1786395600@matpra.org
SUMMARY:Butler Farm Show
DESCRIPTION:This event showcases Butler County’s farming community. Farm-related activities include judging\, exhibits & demonstrations\, animals\, arts & crafts\, and farm products. Also\, don’t forget to check out the truck & tractor pulls\, midway\, music\, entertainment\, and rides.
URL:https://matpra.org/event/butler-farm-show/2026-08-10/
LOCATION:Butler Farm Show\, 625 Evans City Road\, Butler\, PA\, 16001\, United States
CATEGORIES:Pennsylvania
ATTACH;FMTTYPE=image/jpeg:https://matpra.org/wp-content/uploads/2026/03/Butler-Farm-Show.jpg
END:VEVENT
BEGIN:VEVENT
DTSTART;TZID=America/New_York:20260811T100000
DTEND;TZID=America/New_York:20260811T210000
DTSTAMP:20260420T000603
CREATED:20260310T201141Z
LAST-MODIFIED:20260310T201141Z
UID:10108471-1786442400-1786482000@matpra.org
SUMMARY:Butler Farm Show
DESCRIPTION:This event showcases Butler County’s farming community. Farm-related activities include judging\, exhibits & demonstrations\, animals\, arts & crafts\, and farm products. Also\, don’t forget to check out the truck & tractor pulls\, midway\, music\, entertainment\, and rides.
URL:https://matpra.org/event/butler-farm-show/2026-08-11/
LOCATION:Butler Farm Show\, 625 Evans City Road\, Butler\, PA\, 16001\, United States
CATEGORIES:Pennsylvania
ATTACH;FMTTYPE=image/jpeg:https://matpra.org/wp-content/uploads/2026/03/Butler-Farm-Show.jpg
END:VEVENT
BEGIN:VEVENT
DTSTART;TZID=America/New_York:20260812T100000
DTEND;TZID=America/New_York:20260812T210000
DTSTAMP:20260420T000603
CREATED:20260310T201141Z
LAST-MODIFIED:20260310T201141Z
UID:10108472-1786528800-1786568400@matpra.org
SUMMARY:Butler Farm Show
DESCRIPTION:This event showcases Butler County’s farming community. Farm-related activities include judging\, exhibits & demonstrations\, animals\, arts & crafts\, and farm products. Also\, don’t forget to check out the truck & tractor pulls\, midway\, music\, entertainment\, and rides.
URL:https://matpra.org/event/butler-farm-show/2026-08-12/
LOCATION:Butler Farm Show\, 625 Evans City Road\, Butler\, PA\, 16001\, United States
CATEGORIES:Pennsylvania
ATTACH;FMTTYPE=image/jpeg:https://matpra.org/wp-content/uploads/2026/03/Butler-Farm-Show.jpg
END:VEVENT
BEGIN:VEVENT
DTSTART;TZID=America/New_York:20260813T100000
DTEND;TZID=America/New_York:20260813T210000
DTSTAMP:20260420T000603
CREATED:20260310T201141Z
LAST-MODIFIED:20260310T201141Z
UID:10108473-1786615200-1786654800@matpra.org
SUMMARY:Butler Farm Show
DESCRIPTION:This event showcases Butler County’s farming community. Farm-related activities include judging\, exhibits & demonstrations\, animals\, arts & crafts\, and farm products. Also\, don’t forget to check out the truck & tractor pulls\, midway\, music\, entertainment\, and rides.
URL:https://matpra.org/event/butler-farm-show/2026-08-13/
LOCATION:Butler Farm Show\, 625 Evans City Road\, Butler\, PA\, 16001\, United States
CATEGORIES:Pennsylvania
ATTACH;FMTTYPE=image/jpeg:https://matpra.org/wp-content/uploads/2026/03/Butler-Farm-Show.jpg
END:VEVENT
BEGIN:VEVENT
DTSTART;TZID=America/New_York:20260814T100000
DTEND;TZID=America/New_York:20260814T210000
DTSTAMP:20260420T000603
CREATED:20260310T201141Z
LAST-MODIFIED:20260310T201141Z
UID:10108474-1786701600-1786741200@matpra.org
SUMMARY:Butler Farm Show
DESCRIPTION:This event showcases Butler County’s farming community. Farm-related activities include judging\, exhibits & demonstrations\, animals\, arts & crafts\, and farm products. Also\, don’t forget to check out the truck & tractor pulls\, midway\, music\, entertainment\, and rides.
URL:https://matpra.org/event/butler-farm-show/2026-08-14/
LOCATION:Butler Farm Show\, 625 Evans City Road\, Butler\, PA\, 16001\, United States
CATEGORIES:Pennsylvania
ATTACH;FMTTYPE=image/jpeg:https://matpra.org/wp-content/uploads/2026/03/Butler-Farm-Show.jpg
END:VEVENT
BEGIN:VEVENT
DTSTART;TZID=America/New_York:20260815T100000
DTEND;TZID=America/New_York:20260815T210000
DTSTAMP:20260420T000603
CREATED:20260310T201141Z
LAST-MODIFIED:20260310T201141Z
UID:10108475-1786788000-1786827600@matpra.org
SUMMARY:Butler Farm Show
DESCRIPTION:This event showcases Butler County’s farming community. Farm-related activities include judging\, exhibits & demonstrations\, animals\, arts & crafts\, and farm products. Also\, don’t forget to check out the truck & tractor pulls\, midway\, music\, entertainment\, and rides.
URL:https://matpra.org/event/butler-farm-show/2026-08-15/
LOCATION:Butler Farm Show\, 625 Evans City Road\, Butler\, PA\, 16001\, United States
CATEGORIES:Pennsylvania
ATTACH;FMTTYPE=image/jpeg:https://matpra.org/wp-content/uploads/2026/03/Butler-Farm-Show.jpg
END:VEVENT
BEGIN:VEVENT
DTSTART;TZID=America/New_York:20260816T100000
DTEND;TZID=America/New_York:20260816T210000
DTSTAMP:20260420T000603
CREATED:20260310T201141Z
LAST-MODIFIED:20260310T201141Z
UID:10108476-1786874400-1786914000@matpra.org
SUMMARY:Butler Farm Show
DESCRIPTION:This event showcases Butler County’s farming community. Farm-related activities include judging\, exhibits & demonstrations\, animals\, arts & crafts\, and farm products. Also\, don’t forget to check out the truck & tractor pulls\, midway\, music\, entertainment\, and rides.
URL:https://matpra.org/event/butler-farm-show/2026-08-16/
LOCATION:Butler Farm Show\, 625 Evans City Road\, Butler\, PA\, 16001\, United States
CATEGORIES:Pennsylvania
ATTACH;FMTTYPE=image/jpeg:https://matpra.org/wp-content/uploads/2026/03/Butler-Farm-Show.jpg
END:VEVENT
BEGIN:VEVENT
DTSTART;TZID=America/New_York:20260817T100000
DTEND;TZID=America/New_York:20260817T210000
DTSTAMP:20260420T000603
CREATED:20260310T201141Z
LAST-MODIFIED:20260310T201141Z
UID:10108477-1786960800-1787000400@matpra.org
SUMMARY:Butler Farm Show
DESCRIPTION:This event showcases Butler County’s farming community. Farm-related activities include judging\, exhibits & demonstrations\, animals\, arts & crafts\, and farm products. Also\, don’t forget to check out the truck & tractor pulls\, midway\, music\, entertainment\, and rides.
URL:https://matpra.org/event/butler-farm-show/2026-08-17/
LOCATION:Butler Farm Show\, 625 Evans City Road\, Butler\, PA\, 16001\, United States
CATEGORIES:Pennsylvania
ATTACH;FMTTYPE=image/jpeg:https://matpra.org/wp-content/uploads/2026/03/Butler-Farm-Show.jpg
END:VEVENT
BEGIN:VEVENT
DTSTART;TZID=America/New_York:20260818T100000
DTEND;TZID=America/New_York:20260818T210000
DTSTAMP:20260420T000603
CREATED:20260310T201141Z
LAST-MODIFIED:20260310T201141Z
UID:10108478-1787047200-1787086800@matpra.org
SUMMARY:Butler Farm Show
DESCRIPTION:This event showcases Butler County’s farming community. Farm-related activities include judging\, exhibits & demonstrations\, animals\, arts & crafts\, and farm products. Also\, don’t forget to check out the truck & tractor pulls\, midway\, music\, entertainment\, and rides.
URL:https://matpra.org/event/butler-farm-show/2026-08-18/
LOCATION:Butler Farm Show\, 625 Evans City Road\, Butler\, PA\, 16001\, United States
CATEGORIES:Pennsylvania
ATTACH;FMTTYPE=image/jpeg:https://matpra.org/wp-content/uploads/2026/03/Butler-Farm-Show.jpg
END:VEVENT
BEGIN:VEVENT
DTSTART;TZID=America/New_York:20260819T100000
DTEND;TZID=America/New_York:20260819T210000
DTSTAMP:20260420T000603
CREATED:20260310T201141Z
LAST-MODIFIED:20260310T201141Z
UID:10108479-1787133600-1787173200@matpra.org
SUMMARY:Butler Farm Show
DESCRIPTION:This event showcases Butler County’s farming community. Farm-related activities include judging\, exhibits & demonstrations\, animals\, arts & crafts\, and farm products. Also\, don’t forget to check out the truck & tractor pulls\, midway\, music\, entertainment\, and rides.
URL:https://matpra.org/event/butler-farm-show/2026-08-19/
LOCATION:Butler Farm Show\, 625 Evans City Road\, Butler\, PA\, 16001\, United States
CATEGORIES:Pennsylvania
ATTACH;FMTTYPE=image/jpeg:https://matpra.org/wp-content/uploads/2026/03/Butler-Farm-Show.jpg
END:VEVENT
BEGIN:VEVENT
DTSTART;TZID=America/New_York:20260820T100000
DTEND;TZID=America/New_York:20260820T210000
DTSTAMP:20260420T000603
CREATED:20260310T201141Z
LAST-MODIFIED:20260310T201141Z
UID:10108480-1787220000-1787259600@matpra.org
SUMMARY:Butler Farm Show
DESCRIPTION:This event showcases Butler County’s farming community. Farm-related activities include judging\, exhibits & demonstrations\, animals\, arts & crafts\, and farm products. Also\, don’t forget to check out the truck & tractor pulls\, midway\, music\, entertainment\, and rides.
URL:https://matpra.org/event/butler-farm-show/2026-08-20/
LOCATION:Butler Farm Show\, 625 Evans City Road\, Butler\, PA\, 16001\, United States
CATEGORIES:Pennsylvania
ATTACH;FMTTYPE=image/jpeg:https://matpra.org/wp-content/uploads/2026/03/Butler-Farm-Show.jpg
END:VEVENT
BEGIN:VEVENT
DTSTART;TZID=America/New_York:20260821T100000
DTEND;TZID=America/New_York:20260821T210000
DTSTAMP:20260420T000603
CREATED:20260310T201141Z
LAST-MODIFIED:20260310T201141Z
UID:10108481-1787306400-1787346000@matpra.org
SUMMARY:Butler Farm Show
DESCRIPTION:This event showcases Butler County’s farming community. Farm-related activities include judging\, exhibits & demonstrations\, animals\, arts & crafts\, and farm products. Also\, don’t forget to check out the truck & tractor pulls\, midway\, music\, entertainment\, and rides.
URL:https://matpra.org/event/butler-farm-show/2026-08-21/
LOCATION:Butler Farm Show\, 625 Evans City Road\, Butler\, PA\, 16001\, United States
CATEGORIES:Pennsylvania
ATTACH;FMTTYPE=image/jpeg:https://matpra.org/wp-content/uploads/2026/03/Butler-Farm-Show.jpg
END:VEVENT
BEGIN:VEVENT
DTSTART;TZID=America/New_York:20260822T100000
DTEND;TZID=America/New_York:20260822T210000
DTSTAMP:20260420T000603
CREATED:20260310T201141Z
LAST-MODIFIED:20260310T201141Z
UID:10108482-1787392800-1787432400@matpra.org
SUMMARY:Butler Farm Show
DESCRIPTION:This event showcases Butler County’s farming community. Farm-related activities include judging\, exhibits & demonstrations\, animals\, arts & crafts\, and farm products. Also\, don’t forget to check out the truck & tractor pulls\, midway\, music\, entertainment\, and rides.
URL:https://matpra.org/event/butler-farm-show/2026-08-22/
LOCATION:Butler Farm Show\, 625 Evans City Road\, Butler\, PA\, 16001\, United States
CATEGORIES:Pennsylvania
ATTACH;FMTTYPE=image/jpeg:https://matpra.org/wp-content/uploads/2026/03/Butler-Farm-Show.jpg
END:VEVENT
BEGIN:VEVENT
DTSTART;TZID=America/New_York:20260823T100000
DTEND;TZID=America/New_York:20260823T210000
DTSTAMP:20260420T000603
CREATED:20260310T201141Z
LAST-MODIFIED:20260310T201141Z
UID:10108483-1787479200-1787518800@matpra.org
SUMMARY:Butler Farm Show
DESCRIPTION:This event showcases Butler County’s farming community. Farm-related activities include judging\, exhibits & demonstrations\, animals\, arts & crafts\, and farm products. Also\, don’t forget to check out the truck & tractor pulls\, midway\, music\, entertainment\, and rides.
URL:https://matpra.org/event/butler-farm-show/2026-08-23/
LOCATION:Butler Farm Show\, 625 Evans City Road\, Butler\, PA\, 16001\, United States
CATEGORIES:Pennsylvania
ATTACH;FMTTYPE=image/jpeg:https://matpra.org/wp-content/uploads/2026/03/Butler-Farm-Show.jpg
END:VEVENT
BEGIN:VEVENT
DTSTART;TZID=America/New_York:20260824T100000
DTEND;TZID=America/New_York:20260824T210000
DTSTAMP:20260420T000603
CREATED:20260310T201141Z
LAST-MODIFIED:20260310T201141Z
UID:10108484-1787565600-1787605200@matpra.org
SUMMARY:Butler Farm Show
DESCRIPTION:This event showcases Butler County’s farming community. Farm-related activities include judging\, exhibits & demonstrations\, animals\, arts & crafts\, and farm products. Also\, don’t forget to check out the truck & tractor pulls\, midway\, music\, entertainment\, and rides.
URL:https://matpra.org/event/butler-farm-show/2026-08-24/
LOCATION:Butler Farm Show\, 625 Evans City Road\, Butler\, PA\, 16001\, United States
CATEGORIES:Pennsylvania
ATTACH;FMTTYPE=image/jpeg:https://matpra.org/wp-content/uploads/2026/03/Butler-Farm-Show.jpg
END:VEVENT
BEGIN:VEVENT
DTSTART;TZID=America/New_York:20260825T100000
DTEND;TZID=America/New_York:20260825T210000
DTSTAMP:20260420T000603
CREATED:20260310T201141Z
LAST-MODIFIED:20260310T201141Z
UID:10108485-1787652000-1787691600@matpra.org
SUMMARY:Butler Farm Show
DESCRIPTION:This event showcases Butler County’s farming community. Farm-related activities include judging\, exhibits & demonstrations\, animals\, arts & crafts\, and farm products. Also\, don’t forget to check out the truck & tractor pulls\, midway\, music\, entertainment\, and rides.
URL:https://matpra.org/event/butler-farm-show/2026-08-25/
LOCATION:Butler Farm Show\, 625 Evans City Road\, Butler\, PA\, 16001\, United States
CATEGORIES:Pennsylvania
ATTACH;FMTTYPE=image/jpeg:https://matpra.org/wp-content/uploads/2026/03/Butler-Farm-Show.jpg
END:VEVENT
BEGIN:VEVENT
DTSTART;TZID=America/New_York:20260826T100000
DTEND;TZID=America/New_York:20260826T210000
DTSTAMP:20260420T000603
CREATED:20260310T201141Z
LAST-MODIFIED:20260310T201141Z
UID:10108486-1787738400-1787778000@matpra.org
SUMMARY:Butler Farm Show
DESCRIPTION:This event showcases Butler County’s farming community. Farm-related activities include judging\, exhibits & demonstrations\, animals\, arts & crafts\, and farm products. Also\, don’t forget to check out the truck & tractor pulls\, midway\, music\, entertainment\, and rides.
URL:https://matpra.org/event/butler-farm-show/2026-08-26/
LOCATION:Butler Farm Show\, 625 Evans City Road\, Butler\, PA\, 16001\, United States
CATEGORIES:Pennsylvania
ATTACH;FMTTYPE=image/jpeg:https://matpra.org/wp-content/uploads/2026/03/Butler-Farm-Show.jpg
END:VEVENT
BEGIN:VEVENT
DTSTART;TZID=America/New_York:20260827T100000
DTEND;TZID=America/New_York:20260827T210000
DTSTAMP:20260420T000604
CREATED:20260310T201141Z
LAST-MODIFIED:20260310T201141Z
UID:10108487-1787824800-1787864400@matpra.org
SUMMARY:Butler Farm Show
DESCRIPTION:This event showcases Butler County’s farming community. Farm-related activities include judging\, exhibits & demonstrations\, animals\, arts & crafts\, and farm products. Also\, don’t forget to check out the truck & tractor pulls\, midway\, music\, entertainment\, and rides.
URL:https://matpra.org/event/butler-farm-show/2026-08-27/
LOCATION:Butler Farm Show\, 625 Evans City Road\, Butler\, PA\, 16001\, United States
CATEGORIES:Pennsylvania
ATTACH;FMTTYPE=image/jpeg:https://matpra.org/wp-content/uploads/2026/03/Butler-Farm-Show.jpg
END:VEVENT
BEGIN:VEVENT
DTSTART;TZID=America/New_York:20260828T100000
DTEND;TZID=America/New_York:20260828T210000
DTSTAMP:20260420T000604
CREATED:20260310T201141Z
LAST-MODIFIED:20260310T201141Z
UID:10108488-1787911200-1787950800@matpra.org
SUMMARY:Butler Farm Show
DESCRIPTION:This event showcases Butler County’s farming community. Farm-related activities include judging\, exhibits & demonstrations\, animals\, arts & crafts\, and farm products. Also\, don’t forget to check out the truck & tractor pulls\, midway\, music\, entertainment\, and rides.
URL:https://matpra.org/event/butler-farm-show/2026-08-28/
LOCATION:Butler Farm Show\, 625 Evans City Road\, Butler\, PA\, 16001\, United States
CATEGORIES:Pennsylvania
ATTACH;FMTTYPE=image/jpeg:https://matpra.org/wp-content/uploads/2026/03/Butler-Farm-Show.jpg
END:VEVENT
BEGIN:VEVENT
DTSTART;TZID=America/New_York:20260829T100000
DTEND;TZID=America/New_York:20260829T210000
DTSTAMP:20260420T000604
CREATED:20260310T201141Z
LAST-MODIFIED:20260310T201141Z
UID:10108489-1787997600-1788037200@matpra.org
SUMMARY:Butler Farm Show
DESCRIPTION:This event showcases Butler County’s farming community. Farm-related activities include judging\, exhibits & demonstrations\, animals\, arts & crafts\, and farm products. Also\, don’t forget to check out the truck & tractor pulls\, midway\, music\, entertainment\, and rides.
URL:https://matpra.org/event/butler-farm-show/2026-08-29/
LOCATION:Butler Farm Show\, 625 Evans City Road\, Butler\, PA\, 16001\, United States
CATEGORIES:Pennsylvania
ATTACH;FMTTYPE=image/jpeg:https://matpra.org/wp-content/uploads/2026/03/Butler-Farm-Show.jpg
END:VEVENT
BEGIN:VEVENT
DTSTART;TZID=America/New_York:20260830T100000
DTEND;TZID=America/New_York:20260830T210000
DTSTAMP:20260420T000604
CREATED:20260310T201141Z
LAST-MODIFIED:20260310T201141Z
UID:10108490-1788084000-1788123600@matpra.org
SUMMARY:Butler Farm Show
DESCRIPTION:This event showcases Butler County’s farming community. Farm-related activities include judging\, exhibits & demonstrations\, animals\, arts & crafts\, and farm products. Also\, don’t forget to check out the truck & tractor pulls\, midway\, music\, entertainment\, and rides.
URL:https://matpra.org/event/butler-farm-show/2026-08-30/
LOCATION:Butler Farm Show\, 625 Evans City Road\, Butler\, PA\, 16001\, United States
CATEGORIES:Pennsylvania
ATTACH;FMTTYPE=image/jpeg:https://matpra.org/wp-content/uploads/2026/03/Butler-Farm-Show.jpg
END:VEVENT
BEGIN:VEVENT
DTSTART;TZID=America/New_York:20260831T100000
DTEND;TZID=America/New_York:20260831T210000
DTSTAMP:20260420T000604
CREATED:20260310T201141Z
LAST-MODIFIED:20260310T201141Z
UID:10108491-1788170400-1788210000@matpra.org
SUMMARY:Butler Farm Show
DESCRIPTION:This event showcases Butler County’s farming community. Farm-related activities include judging\, exhibits & demonstrations\, animals\, arts & crafts\, and farm products. Also\, don’t forget to check out the truck & tractor pulls\, midway\, music\, entertainment\, and rides.
URL:https://matpra.org/event/butler-farm-show/2026-08-31/
LOCATION:Butler Farm Show\, 625 Evans City Road\, Butler\, PA\, 16001\, United States
CATEGORIES:Pennsylvania
ATTACH;FMTTYPE=image/jpeg:https://matpra.org/wp-content/uploads/2026/03/Butler-Farm-Show.jpg
END:VEVENT
BEGIN:VEVENT
DTSTART;TZID=America/New_York:20260901T100000
DTEND;TZID=America/New_York:20260901T210000
DTSTAMP:20260420T000604
CREATED:20260310T201141Z
LAST-MODIFIED:20260310T201141Z
UID:10108492-1788256800-1788296400@matpra.org
SUMMARY:Butler Farm Show
DESCRIPTION:This event showcases Butler County’s farming community. Farm-related activities include judging\, exhibits & demonstrations\, animals\, arts & crafts\, and farm products. Also\, don’t forget to check out the truck & tractor pulls\, midway\, music\, entertainment\, and rides.
URL:https://matpra.org/event/butler-farm-show/2026-09-01/
LOCATION:Butler Farm Show\, 625 Evans City Road\, Butler\, PA\, 16001\, United States
CATEGORIES:Pennsylvania
ATTACH;FMTTYPE=image/jpeg:https://matpra.org/wp-content/uploads/2026/03/Butler-Farm-Show.jpg
END:VEVENT
BEGIN:VEVENT
DTSTART;TZID=America/New_York:20260902T100000
DTEND;TZID=America/New_York:20260902T210000
DTSTAMP:20260420T000604
CREATED:20260310T201141Z
LAST-MODIFIED:20260310T201141Z
UID:10108493-1788343200-1788382800@matpra.org
SUMMARY:Butler Farm Show
DESCRIPTION:This event showcases Butler County’s farming community. Farm-related activities include judging\, exhibits & demonstrations\, animals\, arts & crafts\, and farm products. Also\, don’t forget to check out the truck & tractor pulls\, midway\, music\, entertainment\, and rides.
URL:https://matpra.org/event/butler-farm-show/2026-09-02/
LOCATION:Butler Farm Show\, 625 Evans City Road\, Butler\, PA\, 16001\, United States
CATEGORIES:Pennsylvania
ATTACH;FMTTYPE=image/jpeg:https://matpra.org/wp-content/uploads/2026/03/Butler-Farm-Show.jpg
END:VEVENT
BEGIN:VEVENT
DTSTART;TZID=America/New_York:20260903T100000
DTEND;TZID=America/New_York:20260903T210000
DTSTAMP:20260420T000604
CREATED:20260310T201141Z
LAST-MODIFIED:20260310T201141Z
UID:10108494-1788429600-1788469200@matpra.org
SUMMARY:Butler Farm Show
DESCRIPTION:This event showcases Butler County’s farming community. Farm-related activities include judging\, exhibits & demonstrations\, animals\, arts & crafts\, and farm products. Also\, don’t forget to check out the truck & tractor pulls\, midway\, music\, entertainment\, and rides.
URL:https://matpra.org/event/butler-farm-show/2026-09-03/
LOCATION:Butler Farm Show\, 625 Evans City Road\, Butler\, PA\, 16001\, United States
CATEGORIES:Pennsylvania
ATTACH;FMTTYPE=image/jpeg:https://matpra.org/wp-content/uploads/2026/03/Butler-Farm-Show.jpg
END:VEVENT
END:VCALENDAR